Workbook
Name ___CON1: #REF!
Name ___CON2: #REF!
Name ___NET2: #REF!
Name __CON1: #REF!
Name __CON2: #REF!
Name __NET2: #REF!
Name _1: #REF!
Name _2: #REF!
Name _CON1: #REF!
Name _CON2: #REF!
Name _NET2: #REF!
Name A: #REF!
Name AA: #REF!
Name ADP: #REF!
Name AKHAC: #REF!
Name ALTINH: #REF!
Name Anguon: #REF!
Name ANN: #REF!
Name ANQD: #REF!
Name ANQQH: #REF!
Name ANSNN: #REF!
Name ANSNNxnk: #REF!
Name APC: #REF!
Name ATW: #REF!
Name B: #REF!
Name BB: #REF!
Name BOQ: #REF!
Name BVCISUMMARY: #REF!
Name C_: #REF!
Name Can_doi: #REF!
Name CC: #REF!
Name CLVL: #REF!
Name COMMON: #REF!
Name CON_EQP_COS: #REF!
Name COVER: #REF!
Name CPC: #REF!
Name CRITINST: #REF!
Name CRITPURC: #REF!
Name CS_10: #REF!
Name CS_100: #REF!
Name CS_10S: #REF!
Name CS_120: #REF!
Name CS_140: #REF!
Name CS_160: #REF!
Name CS_20: #REF!
Name CS_30: #REF!
Name CS_40: #REF!
Name CS_40S: #REF!
Name CS_5S: #REF!
Name CS_60: #REF!
Name CS_80: #REF!
Name CS_80S: #REF!
Name CS_STD: #REF!
Name CS_XS: #REF!
Name CS_XXS: #REF!
Name DNNN: #REF!
Name DSUMDATA: #REF!
Name end: #REF!
Name End_1: #REF!
Name End_10: #REF!

Sheet 54 
A1: UBND PHƯỜNG ĐỨC XUÂN | F1: Mẫu biểu số 54
A2: TÌNH HÌNH CÂN ĐỐI NSĐP 9 THÁNG NĂM 2026
A3: (Kèm theo Báo cáo số /BC-UBND ngày /10/2026 của UBND phường Đức Xuân)
F4: Đơn vị: Triệu đồng
A5: STT | B5: Nội dung | C5: Dự toán | D5: Ước thực hiện | F5: Ước thực hiện so (%)
D6: 9 tháng | E6: Lũy kế | F6: Dự toán | G6: Cùng kỳ năm 2025
A7: A | B7: B | C7: 1 | D7: 2 | E7: 3 | F7: 4=3/1 | G7: 5
A8: A | B8: TỔNG THU NSNN TRÊN ĐỊA BÀN | C8: =SUM(C9:C12) -> 139580 | D8: =SUM(D9:D12) -> 61496.1 | E8: =SUM(E9:E12) -> 61496.1 | F8: =E8/C8*100 -> 44.05796
A9: I | B9: Thu nội địa | C9: 139580 | D9: ='55 '!D9 -> 61496.1 | E9: ='55 '!E9 -> 61496.1 | F9: =E9/C9*100 -> 44.05796
A10: II | B10: Thu từ dầu thô
A11: III | B11: Thu từ hoạt động xuất nhập khẩu
A12: IV | B12: Thu viện trợ
A13: B | B13: TỔNG THU NGÂN SÁCH ĐỊA PHƯƠNG | C13: =C14+C18+C21+C22+C23 -> 186318 | D13: =D14+D18+D21+D22+D23 -> 229289.3 | E13: =E14+E18+E21+E22+E23 -> 205102.1 | F13: =E13/C13*100 -> 110.08174
A14: I | B14: Thu NSĐP được hưởng theo phân cấp | C14: =SUM(C15:C17) -> 64501 | D14: =SUM(D15:D17) -> 61496.1 | E14: =SUM(E15:E17) -> 61496.1 | F14: =E14/C14*100 -> 95.341313
A15: 1 | B15: Các khoản thu NSĐP hưởng 100% | C15: 14471 | D15: ='55 '!D49 -> 34183.4 | E15: =D15 -> 34183.4 | F15: =E15/C15*100 -> 236.22003
A16: 2 | B16: Thuế giá trị gia tăng (phần NSĐP hưởng 30%)
A17: 3 | B17: Các khoản thu phân chia NSĐP theo tỷ lệ % | C17: 50030 | D17: ='55 '!D47 -> 27312.7 | E17: =D17 -> 27312.7 | F17: =E17/C17*100 -> 54.592644
A18: II | B18: Thu bổ sung từ ngân sách cấp trên | C18: =SUM(C19:C20) -> 121817 | D18: =SUM(D19:D20) -> 143606 | E18: =SUM(E19:E20) -> 143606 | F18: =E18/C18*100 -> 117.88667
A19: 1 | B19: Thu bổ sung cân đối ngân sách | C19: 61301 | D19: 61301 | E19: =D19 -> 61301 | F19: =E19/C19*100 -> 100
A20: 2 | B20: Thu bổ sung có mục tiêu | C20: 60516 | D20: 82305 | E20: =D20 -> 82305 | F20: =E20/C20*100 -> 136.00535
A21: III | B21: Thu từ quỹ dự trữ tài chính
A22: IV | B22: Thu kết dư
A23: V | B23: Thu chuyển nguồn từ năm trước chuyển sang | D23: 24187.2
A24: C | B24: TỔNG CHI NSĐP | C24: =C25+C34+C35 -> 186318 | D24: =D25+D34+D35 -> 110389.5 | E24: =E25+E34+E35 -> 109020 | F24: =E24/C24*100 -> 58.512865
A25: I | B25: Chi cân đối ngân sách địa phương | C25: =SUM(C26:C33) -> 186318 | D25: =SUM(D26:D33) -> 110389.5 | E25: =SUM(E26:E33) -> 109020 | F25: =E25/C25*100 -> 58.512865
A26: 1 | B26: Chi đầu tư phát triển | C26: 13475 | D26: ='56.1 '!D10 -> 12331.5 | E26: ='56.1 '!E10 -> 12331.5 | F26: =E26/C26*100 -> 91.513915
A27: 2 | B27: Chi thường xuyên | C27: =109197+60516 -> 169713 | D27: ='56.1 '!D14 -> 96688.5 | E27: ='56.1 '!E14 -> 96688.5 | F27: =E27/C27*100 -> 56.97177
A28: 3 | B28: Chi nộp trả ngân sách cấp trên | D28: ='56.1 '!D18 -> 1369.5
A29: 4 | B29: Chi viện trợ
A30: 5 | B30: Chi trả nợ lãi
A31: 6 | B31: Chi bổ sung quỹ dự trữ tài chính
A32: 7 | B32: Dự phòng NSNN | C32: 3130 | D32: ='56.1 '!D21 -> 0 | E32: ='56.1 '!E21 -> 0 | F32: =E32/C32*100 -> 0
A33: 8 | B33: Các nhiệm vụ chi khác
A34: II | B34: Chi từ nguồn bổ sung có mục tiêu từ NSTW cho NSĐP
A35: II | B35: Chi chuyển nguồn sang năm sau

Sheet 55 
A1: ='54 '!A1 -> UBND PHƯỜNG ĐỨC XUÂN | F1: Mẫu biểu số 55 - TT 26
A2: ƯỚC THỰC HIỆN THU NSNN 9 THÁNG NĂM 2026
A3: ='54 '!A3:G3 -> (Kèm theo Báo cáo số /BC-UBND ngày /10/2026 của UBND phường Đức Xuân)
F4: Đơn vị: Triệu đồng
A5: STT | B5: Nội dung | C5: Dự toán | D5: Ước thực hiện | F5: Ước thực hiện so (%)
D6: 9 tháng | E6: Lũy kế | F6: Dự toán | G6: Cùng kỳ năm 2025
A7: A | B7: B | C7: 1 | D7: 2 | E7: 3 | F7: 4 | G7: 5
A8: A | B8: TỔNG THU NSNN TRÊN ĐỊA BÀN | C8: =C9+C32+C33+C41 -> 139580 | D8: =D9+D32+D33+D41 -> 66496.1 | E8: =E9+E32+E33+E41 -> 66496.1 | F8: =D8/C8*100 -> 47.640135
A9: I | B9: Thu nội địa | C9: =C10+C11+C12+C13+C14+C15+C18+C23+C24+C25+C26+C27+C30+C31 -> 139580 | D9: =D10+D11+D12+D13+D14+D15+D18+D23+D24+D25+D26+D27+D30+D31 -> 61496.1 | E9: =E10+E11+E12+E13+E14+E15+E18+E23+E24+E25+E26+E27+E30+E31 -> 61496.1 | F9: =D9/C9*100 -> 44.05796
A10: 1 | B10: Thu từ khu vực doanh nghiệp nhà nước | D10: 29.7 | E10: =D10 -> 29.7
A11: 2 | B11: Thu từ khu vực doanh nghiệp có vốn ĐTNN | E11: =D11 -> 0
A12: 3 | B12: Thu từ khu vực kinh tế ngoài quốc doanh | C12: 25500 | D12: 20229 | E12: =D12 -> 20229 | F12: =D12/C12*100 -> 79.329412
A13: 4 | B13: Thuế thu nhập cá nhân | C13: 7410 | D13: 4763 | E13: =D13 -> 4763 | F13: =D13/C13*100 -> 64.278003
A14: 5 | B14: Thuế bảo vệ môi trường | E14: =D14 -> 0
A15: 6 | B15: Các loại phí, lệ phí | C15: =SUM(C16:C17) -> 15872 | D15: =SUM(D16:D17) -> 9372.3 | E15: =SUM(E16:E17) -> 9372.3 | F15: =D15/C15*100 -> 59.049269
B16: Lệ phí trước bạ | C16: 14092 | D16: 8975.8 | E16: =D16 -> 8975.8 | F16: =D16/C16*100 -> 63.694295
B17: Phí, lệ phí | C17: 1780 | D17: 396.5 | E17: =D17 -> 396.5 | F17: =D17/C17*100 -> 22.275281
A18: 7 | B18: Các khoản thu về nhà, đất | C18: =SUM(C19:C22) -> 88858 | D18: =SUM(D19:D22) -> 24608.4 | E18: =SUM(E19:E22) -> 24608.4 | F18: =D18/C18*100 -> 27.694074
A19: - | B19: Thuế sử dụng đất nông nghiệp | E19: =D19 -> 0
A20: - | B20: Thuế sử dụng đất phi nông nghiệp | C20: 379 | D20: 215.6 | E20: =D20 -> 215.6 | F20: =D20/C20*100 -> 56.886544
A21: - | B21: Thu tiền cho thuê đất, thuê mặt nước | C21: 2979 | D21: 1757 | E21: =D21 -> 1757 | F21: =D21/C21*100 -> 58.979523
A22: - | B22: Thu tiền sử dụng đất | C22: 85500 | D22: 22635.8 | E22: =D22 -> 22635.8 | F22: =D22/C22*100 -> 26.47462
A23: 8 | B23: Thu tiền sử dụng khu vực biển | E23: =D23 -> 0
A24: 9 | B24: Thu từ khai thác, xử lý tài sản công xử lý theo quy định của pháp luật về quản lý, sử dụng tài sản công | E24: =D24 -> 0
A25: 10 | B25: Thu từ hoạt động xổ số | E25: =D25 -> 0
A26: 8 | B26: Thu tiền cấp quyền khai thác khoáng sản, vùng trời, vùng biển | D26: 25 | E26: =D26 -> 25
A27: 12 | B27: Thu hồi vốn, thu cổ tức, lợi nhuận, lợi nhuận sau thuế, chênh lệch thu chi của Ngân hàng Nhà nước | E27: =D27 -> 0
A28: - | B28: Thu hồi vốn NSNN đầu tư tại tổ chức kinh tế | E28: =D28 -> 0
A29: - | B29: Thu cổ tức, lợi nhuận, lợi nhuậu sau thuế, chênh lệch thu chi của Ngân hàng Nhà nước | E29: =D29 -> 0
A30: 13 | B30: Thu quỹ đất công ích và hoa lợi công sản khác | E30: =D30 -> 0
A31: 9 | B31: Thu khác ngân sách | C31: 1940 | D31: 2468.7 | E31: =D31 -> 2468.7 | F31: =D31/C31*100 -> 127.25258
A32: II | B32: Thu từ dầu thô
A33: III | B33: Thu từ hoạt động xuất nhập khẩu
A34: 1 | B34: Thuế GTGT thu từ hàng hóa nhập khẩu
A35: 2 | B35: Thuế xuất khẩu
A36: 3 | B36: Thuế nhập khẩu
A37: 4 | B37: Thuế TTĐB thu từ hàng hóa nhập khẩu
A38: 5 | B38: Thuế BVMT thu từ hàng hóa nhập khẩu
A39: 6 | B39: Thuế bổ sung đối với hàng hóa nhập khẩu
A40: 7 | B40: Thuế khác
...

Sheet 56.1 
A1: ='54 '!A1 -> UBND PHƯỜNG ĐỨC XUÂN | F1: Mẫu biểu số 56.1 - TT 26
A2: ƯỚC THỰC HIỆN CHI NSNN 9 THÁNG NĂM 2026
A3: ='54 '!A3:G3 -> (Kèm theo Báo cáo số /BC-UBND ngày /10/2026 của UBND phường Đức Xuân)
G4: Đơn vị: Triệu đồng
A5: STT | B5: Nội dung | C5: Dự toán | D5: Ước thực hiện | F5: Ước thực hiện so (%)
D6: 9 tháng | E6: Lũy kế | F6: Dự toán | G6: Cùng kỳ năm 2025
A7: A | B7: B | C7: 1 | D7: 2 | E7: 3 | F7: 4=3/1 | G7: 5
B8: TỔNG CHI NSĐP | C8: =C9+C24 -> 186318 | D8: =D9+D24 -> 110389.5 | E8: =E9+E24 -> 109020 | F8: =E8/C8 -> 0.58512865
A9: A | B9: CHI CÂN ĐỐI NSĐP | C9: =C10+C14+C13+C18+C19+C20+C21+C22+C23 -> 186318 | D9: =D10+D14+D13+D18+D19+D20+D21+D22+D23 -> 110389.5 | E9: =E10+E14+E13+E18+E19+E20+E21+E22+E23 -> 109020 | F9: =E9/C9 -> 0.58512865
A10: I | B10: Chi đầu tư phát triển | C10: =C11+C12 -> 13475 | D10: =D11+D12 -> 12331.5 | E10: =E11+E12 -> 12331.5 | F10: =E10/C10 -> 0.91513915
A11: 1 | B11: Chi đầu tư phát triển theo ngành, lĩnh vực | C11: 13475 | D11: =14055.5-1724 -> 12331.5 | E11: =D11 -> 12331.5 | F11: =E11/C11 -> 0.91513915
A12: 2 | B12: Chi chương trình mục tiêu quốc gia
A13: II | B13: Chi trả nợ lãi
A14: III | B14: Chi thường xuyên | C14: =109197+60516 -> 169713 | D14: 96688.5 | E14: =D14 -> 96688.5 | F14: =E14/C14 -> 0.5697177
B15: Trong đó:
B16: - Chi giáo dục, đào tạo và dạy nghề | C16: 69545 | D16: 35473.3 | E16: =D16 -> 35473.3 | F16: =E16/C16 -> 0.51007693
B17: - Chi khoa học, công nghệ, đổi mới sáng tạo và chuyển đổi số | C17: 680.3 | D17: 436.5 | E17: =D17 -> 436.5 | F17: =E17/C17 -> 0.64162869
A18: IV | B18: Chi nộp ngân sách cấp trên | D18: 1369.5
A19: V | B19: Chi viện trợ
A20: VI | B20: Chi bổ sung quỹ dự trữ tài chính
A21: VII | B21: Dự phòng ngân sách nhà nước | C21: 3130 | F21: =E21/C21*100 -> 0
A22: VIII | B22: Chi cải cách tiền lương, tinh giản biên chế
A23: IX | B23: Các nhiệm vụ chi khác
A24: B | B24: CHI TỪ NGUỒN BỔ SUNG CÓ MỤC TIÊU TỪ NSTW CHO NSĐP | C24: =SUM(C25:C27) -> 0 | D24: =SUM(D25:D27) -> 0 | E24: =SUM(E25:E27) -> 0
A25: 1 | B25: Chi đầu tư thực hiện các chương trình, nhiệm vụ, dự án
A26: 2 | B26: Chi thường xuyên thực hiện các chế độ, chính sách
A27: 3 | B27: Chi thực hiện các chương trình mục tiêu quốc gia

Sheet 56.3
A1: ='54 '!A1 -> UBND PHƯỜNG ĐỨC XUÂN | D1: Mẫu biểu số 56.3
A3: KẾT QUẢ PHÂN BỔ SỬ DỤNG SỐ TĂNG THU SO VỚI DỰ TOÁN, DỰ TOÁN CHI CÒN LẠI
A4: ='54 '!A3:G3 -> (Kèm theo Báo cáo số /BC-UBND ngày /10/2026 của UBND phường Đức Xuân)
E5: Đơn vị: Triệu đồng
A7: STT | B7: Nội dung | C7: Tổng số | D7: Trong đó
D8: Số tăng thu so với dự toán | E8: Dự toán chi còn lại
A9: A | B9: B | C9: 1=2+3 | D9: 2 | E9: 3
B10: Tổng số
A11: 1 | B11: Giảm bội chi, tăng chi trả nợ
A12: 2 | B12: Bổ sung tăng dự phòng ngân sách và quỹ dự trữ tài chính
A13: 3 | B13: Bổ sung nguồn thực hiện chính sách tiền lương
A14: 4 | B14: Chi đầu tư một số dự án quan trọng
A15: 5 | B15: Thực hiện một số chính sách an sinh xã hội
A16: 6 | B16: Thưởng vượt dự toán thu hoặc hỗ trợ ngân sách cấp dưới hụt thu
